BEGIN:VCALENDAR
VERSION:2.0
PRODID:-//Nova Scotia Sport Hall of Fame - ECPv6.15.14//NONSGML v1.0//EN
CALSCALE:GREGORIAN
METHOD:PUBLISH
X-WR-CALNAME:Nova Scotia Sport Hall of Fame
X-ORIGINAL-URL:https://nsshf.com
X-WR-CALDESC:Events for Nova Scotia Sport Hall of Fame
REFRESH-INTERVAL;VALUE=DURATION:PT1H
X-Robots-Tag:noindex
X-PUBLISHED-TTL:PT1H
BEGIN:VTIMEZONE
TZID:America/Halifax
BEGIN:DAYLIGHT
TZOFFSETFROM:-0400
TZOFFSETTO:-0300
TZNAME:ADT
DTSTART:20180311T060000
END:DAYLIGHT
BEGIN:STANDARD
TZOFFSETFROM:-0300
TZOFFSETTO:-0400
TZNAME:AST
DTSTART:20181104T050000
END:STANDARD
BEGIN:DAYLIGHT
TZOFFSETFROM:-0400
TZOFFSETTO:-0300
TZNAME:ADT
DTSTART:20190310T060000
END:DAYLIGHT
BEGIN:STANDARD
TZOFFSETFROM:-0300
TZOFFSETTO:-0400
TZNAME:AST
DTSTART:20191103T050000
END:STANDARD
BEGIN:DAYLIGHT
TZOFFSETFROM:-0400
TZOFFSETTO:-0300
TZNAME:ADT
DTSTART:20200308T060000
END:DAYLIGHT
BEGIN:STANDARD
TZOFFSETFROM:-0300
TZOFFSETTO:-0400
TZNAME:AST
DTSTART:20201101T050000
END:STANDARD
END:VTIMEZONE
BEGIN:VEVENT
DTSTART;TZID=America/Halifax:20191029T170000
DTEND;TZID=America/Halifax:20191029T180000
DTSTAMP:20260422T084413
CREATED:20191003T143516Z
LAST-MODIFIED:20191003T143516Z
UID:7380-1572368400-1572372000@nsshf.com
SUMMARY:Distinction Earned: Cape Breton Boxing’s Golden Era
DESCRIPTION:Free Film Screening at the Hall of Fame! \nDistinction Earned: Cape Breton Boxing’s Golden Era (20min 40sec)\nDirected by Charles Currie\nWritten by Paul MacDougall\, Charles Currie and Allan MacDonald \nSynopsis:\nCape Breton Island was once a boxing mecca producing multiple Canadian champions including NSSHF alumni George “Rockabye” Ross\, Tyrone Gardiner and Blair Richardson. This documentary\,  based on Paul MacDougall’s book Distinction Earned: Cape Breton’s Boxing Legends\, 1946 – 1970\, uses interviews\, archival footage\, photographs and cartoons to transport the viewer to industrial Cape Breton in the mid-20th century\, where boxing flourished against the industrial backdrop of the steel plant and coal mines. The film explores the role of the trainers (Johnny Nemis\, John Cechetto)\, the venue (Venetian Gardens)\, the cutman (Rudy Plichie)\, the promoter (Gussie MacLellan)\, the champions (George Ross\, Tyrone Gardiner\, Blair Richardson) and the fans. All interconnected\, it was their passion and drive that took boxing  from the backrooms of grocery stores all the way to Madison Square Garden. Distinction Earned is  a grassroots working-class success story and a celebration of a time when Nova Scotians were among the best athletes in the world. \nJoin us for a free screening and chat with the director before the Halifax Mooseheads face off against Cape Breton on October 29. Open to the public.
URL:https://nsshf.com/event/distinction-earned-cape-breton-boxings-golden-era/
LOCATION:Nova Scotia Sport Hall of Fame\, 1800 Argyle Street\, Suite 446\, Halifax\, Nova Scotia\, B3J 3N8\, Canada
END:VEVENT
BEGIN:VEVENT
DTSTART;VALUE=DATE:20190924
DTEND;VALUE=DATE:20190925
DTSTAMP:20260422T084413
CREATED:20190917T180934Z
LAST-MODIFIED:20190917T180934Z
UID:7297-1569283200-1569369599@nsshf.com
SUMMARY:Hall of Fame Website Launch
DESCRIPTION:Online Party:\nCelebrate with us here online as we officially launch our brand new website! Visit www.nsshf.com anytime all day long on Tuesday\, September 24\, for special content\, contests and giveaways. You can also follow along on social media as we share some of our favourite features of the new site. You can follow along on Facebook\, or on Twitter and Instagram (@nsshf). \nIn-House Party:\nVisit the Hall of Fame museum between 10 am and 5 pm on Tuesday\, September 24\, to celebrate our website launch with us and enjoy some treats and give-aways! Free simulator play\, and free WIFI to visit our new site.
URL:https://nsshf.com/event/hall-of-fame-website-launch/
LOCATION:Nova Scotia Sport Hall of Fame\, 1800 Argyle Street\, Suite 446\, Halifax\, Nova Scotia\, B3J 3N8\, Canada
END:VEVENT
BEGIN:VEVENT
DTSTART;TZID=America/Halifax:20190715T120000
DTEND;TZID=America/Halifax:20190715T130000
DTSTAMP:20260422T084413
CREATED:20190610T193002Z
LAST-MODIFIED:20190610T194050Z
UID:599-1563192000-1563195600@nsshf.com
SUMMARY:Bruce MacKinnon Exhibit Launch
DESCRIPTION:Bruce Rainnie will interview celebrated editorial cartoonist Bruce MacKinnon as we launch an exhibit of MacKinnon’s original sport cartoons. \nFree
URL:https://nsshf.com/event/bruce-mackinnon-exhibit-launch/
LOCATION:Nova Scotia Sport Hall of Fame\, 1800 Argyle Street\, Suite 446\, Halifax\, Nova Scotia\, B3J 3N8\, Canada
ATTACH;FMTTYPE=image/jpeg:https://nsshf.com/wp-content/uploads/MacKinnon_Cartoon_July_21_2017.jpg
END:VEVENT
END:VCALENDAR